BEGIN:VCALENDAR
VERSION:2.0
PRODID:-//Le Logis-Floréal - ECPv6.11.2.1//NONSGML v1.0//EN
CALSCALE:GREGORIAN
METHOD:PUBLISH
X-WR-CALNAME:Le Logis-Floréal
X-ORIGINAL-URL:https://www.lelogisfloreal.be/nl/
X-WR-CALDESC:Evenementen voor Le Logis-Floréal
REFRESH-INTERVAL;VALUE=DURATION:PT1H
X-Robots-Tag:noindex
X-PUBLISHED-TTL:PT1H
BEGIN:VTIMEZONE
TZID:Europe/Brussels
BEGIN:DAYLIGHT
TZOFFSETFROM:+0100
TZOFFSETTO:+0200
TZNAME:CEST
DTSTART:20260329T010000
END:DAYLIGHT
BEGIN:STANDARD
TZOFFSETFROM:+0200
TZOFFSETTO:+0100
TZNAME:CET
DTSTART:20261025T010000
END:STANDARD
END:VTIMEZONE
BEGIN:VEVENT
DTSTART;TZID=Europe/Brussels:20260325T140000
DTEND;TZID=Europe/Brussels:20260624T163000
DTSTAMP:20260420T094002
CREATED:20260228T092204Z
LAST-MODIFIED:20260305T102135Z
UID:7789-1774447200-1782318600@www.lelogisfloreal.be
SUMMARY:"Les mercredis complètement Cailles" gaan weer van start !
DESCRIPTION:Onze partner\, La Ferme du Chant des Cailles\, organiseert  de “Woensdagen helemaal Cailles”\, een volledige onderdompeling in het boerderijleven bij Le Logis-Floréal. \nZin om nieuwe dingen te ontdekken?\nOm al spelend bij te leren?\nOm te observeren wat er dicht bij huis groeit doorheen de seizoenen?\nOm tijd door te brengen in de natuur en fijne mensen te ontmoeten? \nOp het programma: ontdekking van de natuur\, dieren en stedelijke agro-ecologie via praktische\, artistieke\, speelse en culinaire activiteiten op het Chant des Cailles – een fantastische plek voor exploratie en experimentatie! \n\nReeks van 12 workshops van 25 maart tot 24 juni 2026\nIn het Frans\nVoor kinderen van 5 tot 8 jaar\nElke woensdag van 14u tot 16u30\n\nInschrijvingen en info
URL:https://www.lelogisfloreal.be/nl/agenda/les-mercredis-completement-cailles-gaan-weer-van-start/
LOCATION:Ferme du Chant des Cailles\, Avenue des Cailles\, Watermael-Boitsfort\, 1170\, Belgique
ATTACH;FMTTYPE=image/jpeg:https://www.lelogisfloreal.be/wp-content/uploads/2025/02/SainteTherese3.jpeg
END:VEVENT
BEGIN:VEVENT
DTSTART;TZID=Europe/Brussels:20260412T140000
DTEND;TZID=Europe/Brussels:20260830T170000
DTSTAMP:20260420T094002
CREATED:20260410T074016Z
LAST-MODIFIED:20260114T093749Z
UID:8814-1776002400-1788109200@www.lelogisfloreal.be
SUMMARY:AGENDA VAN HET VISITOR CENTER
DESCRIPTION:AGENDA VAN HET VISITOR CENTER VAN DE TUINSTEDEN \nEen initiatief van de Compagnons du Quartier Floréal – Elke zondagmiddag activiteiten in het Visitor Center\, Joseph Wautersplein 4. \nTentoonstelling \n• Van 25/1 tot 29/3: Tentoonstelling van schilderes Chantal Bardiau\, bewoonster van de tuinsteden (Zij zal aanwezig zijn op 25/1\, 15/2\, 1/3 en 29/3) \nConcerten \n(vrije bijdrage – reservatie: lescompagnonsdefloreal@hotmail.com)\n• 11 januari om 14u30: Brussels Guitar Duo – een muzikale reis door het Zuid-Amerikaanse repertoire van de 20e eeuw\n• 8 februari om 14u30: Ivolga Trio (gitaar\, accordeon\, zang) – repertoire uit de Oost-Europese muziek \nLezing (reservatie: lescompagnonsdefloreal@hotmail.com \n• 1 februari om 14u30: Watermaal-Bosvoorde op postkaarten – De charme van de gemeente aan het begin van de vorige eeuw door Jan De Paepe\, kunsthistoricus \nGezelschapsspellen – namiddagen van 14u tot 17u (iedereen brengt zijn eigen spellen mee)\n• 22/2\, 8/3\, 3/5\, 10/5\, 17/5\, 31/5\, 21/6\, 28/6\, 5/7\, 30/8 – vanaf 14u \nBegeleide wandeling in het Zoniënwoud (onder leiding van Anne Teller\, bio-ingenieur en natuurgids)\n• 22 maart – vertrek om 14u aan het Visitor Center\nAdres: Joseph Wautersplein 4
URL:https://www.lelogisfloreal.be/nl/agenda/agenda-van-het-visitor-center/
LOCATION:Place Wauters\, 4\, Place Wauters\, 4\, Bruxelles\, 1170\, Belgique
CATEGORIES:Activiteiten voor sociale cohesie
ATTACH;FMTTYPE=image/jpeg:https://www.lelogisfloreal.be/wp-content/uploads/2026/03/nouvelle-expo_Visitor-Center-12042026.jpg
END:VEVENT
END:VCALENDAR