BEGIN:VCALENDAR
VERSION:2.0
PRODID:-//Le Logis-Floréal - ECPv6.11.2.1//NONSGML v1.0//EN
CALSCALE:GREGORIAN
METHOD:PUBLISH
X-WR-CALNAME:Le Logis-Floréal
X-ORIGINAL-URL:https://www.lelogisfloreal.be
X-WR-CALDESC:évènements pour Le Logis-Floréal
REFRESH-INTERVAL;VALUE=DURATION:PT1H
X-Robots-Tag:noindex
X-PUBLISHED-TTL:PT1H
BEGIN:VTIMEZONE
TZID:Europe/Brussels
BEGIN:DAYLIGHT
TZOFFSETFROM:+0100
TZOFFSETTO:+0200
TZNAME:CEST
DTSTART:20260329T010000
END:DAYLIGHT
BEGIN:STANDARD
TZOFFSETFROM:+0200
TZOFFSETTO:+0100
TZNAME:CET
DTSTART:20261025T010000
END:STANDARD
END:VTIMEZONE
BEGIN:VEVENT
DTSTART;TZID=Europe/Brussels:20260419T143000
DTEND;TZID=Europe/Brussels:20261206T173000
DTSTAMP:20260423T123021
CREATED:20260401T080249Z
LAST-MODIFIED:20260414T124202Z
UID:9058-1776609000-1796578200@www.lelogisfloreal.be
SUMMARY:Les Dimanches au Chant des Cailles
DESCRIPTION:Les dimanches Cailles\, c’est le meilleur moment pour venir (re)découvrir le projet d’agriculture urbaine au Chant des Cailles et rencontrer les moutons au cœur de Watermael-Boitsfort. \nAu programme  \n\nDécouverte des brebis\, des poules\, des lapins et des potagers\nVente des produits de la ferme : fromages et yaourts au lait de nos brebis\, autres desserts lactés\, herbes aromatiques\, laine et autres produits de saison\nVente de crème glacée au lait de nos brebis\nCueillette de fleurs de saison (vous payez dans l’urne en fonction de votre récolte)\nBoissons (bière locale et jus de pommes)\nActivité tous les dimanches à partir de mi-avril jusqu’au 25 octobre de 15h à 17h30 (réservations sur place): rencontre avec les brebis au-delà de la clôture. Durant cette activité\, vous passerez un moment privilégié avec notre troupeau de brebis. Habituées à l’humain\, elles sont très câlines et attentives. Un moment doux pour les petit.e.s et grand.e.s !\nD’autres activités sont également organisées ponctuellement: concerts\, spectacles\, ateliers\,…\n\nLieu: champ des Cailles \nProchaines dates: \n\n19 avril 2026 14 h 30 – 17 h 30 min\n26 avril 2026 14 h 30 – 17 h 30 min\n3 mai 2026 14 h 30 – 17 h 30 min\n10 mai 2026 14 h 30 – 17 h 30 min\n17 mai 2026 14 h 30 – 17 h 30 min\n24 mai 2026 14 h 30 – 17 h 30 min\n31 mai 2026 14 h 30 – 17 h 30 min\n7 juin 2026 14 h 30 – 17 h 30 min\n14 juin 2026 14 h 30 – 17 h 30 min\n21 juin 2026 14 h 30 – 17 h 30 min\n28 juin 2026 14 h 30 – 17 h 30 min\n5 juillet 2026 14 h 30 – 17 h 30 min\n12 juillet 2026 14 h 30 – 17 h 30 min\n19 juillet 2026 14 h 30 – 17 h 30 min\n26 juillet 2026 14 h 30 – 17 h 30 min\n2 août 2026 14 h 30 – 17 h 30 min\n9 août 2026 14 h 30 – 17 h 30 min\n16 août 2026 14 h 30 – 17 h 30 min\n23 août 2026 14 h 30 – 17 h 30 min\n30 août 2026 14 h 30 – 17 h 30 min\n6 septembre 2026 14 h 30 – 17 h 30 min\n13 septembre 2026 14 h 30 – 17 h 30 min\n20 septembre 2026 14 h 30 – 17 h 30 min\n27 septembre 2026 14 h 30 – 17 h 30 min\n4 octobre 2026 14 h 30 – 17 h 30 min\n11 octobre 2026 14 h 30 – 17 h 30 min\n18 octobre 2026 14 h 30 – 17 h 30 min\n25 octobre 2026 14 h 30 – 17 h 30 min
URL:https://www.lelogisfloreal.be/agenda/les-dimanches-au-chant-des-cailles/
ATTACH;FMTTYPE=image/jpeg:https://www.lelogisfloreal.be/wp-content/uploads/2026/03/dimanche-Cailles.jpg
END:VEVENT
END:VCALENDAR